BEGIN:VCALENDAR
VERSION:2.0
PRODID:-//Sabre//Sabre VObject 4.5.8//EN
CALSCALE:GREGORIAN
NAME:PG Pfaffenhofen
X-WR-CALNAME:PG Pfaffenhofen
BEGIN:VEVENT
UID:sabre-vobject-74a28fc5-ebed-491a-8a03-10eb209d32e6
DTSTAMP:20260423T111306Z
SUMMARY:Heilige Messe
DESCRIPTION:https://pg-pfaffenhofen.de/heilige-messe_id43911
DTSTART;TZID=Europe/Berlin:20260423T183000
DURATION:PT30M
LOCATION:Kirche St. Cosmas und Damian\, Beurener Str. 47\, 89284 Pfaffenhof
 en
END:VEVENT
BEGIN:VEVENT
UID:sabre-vobject-81298378-8c1c-4920-9f16-ca8950feab6a
DTSTAMP:20260423T111306Z
SUMMARY:Heilige Messe
DESCRIPTION:https://pg-pfaffenhofen.de/heilige-messe_id43919
DTSTART;TZID=Europe/Berlin:20260424T090000
DURATION:PT30M
LOCATION:Kirche St. Martin Pfaffenhofen\, Kirchpl. 3\, 89284 Pfaffenhofen
END:VEVENT
BEGIN:VEVENT
UID:sabre-vobject-8d23a738-40c5-4924-a2ef-240d8a2aec2c
DTSTAMP:20260423T111306Z
SUMMARY:Heilige Messe\; Dankgottesdienst der Erstkommunionkinder
DESCRIPTION:https://pg-pfaffenhofen.de/heilige-messe-dankgottesdienst-der-e
 rstkommunionkinder_id43913
DTSTART;TZID=Europe/Berlin:20260424T183000
DURATION:PT30M
LOCATION:Kirche St. Peter und Paul\, Kirchstraße 10\, 89291 Holzheim
END:VEVENT
BEGIN:VEVENT
UID:sabre-vobject-1b67d1ce-d974-435b-bf17-9f2a0cf6df1a
DTSTAMP:20260423T111306Z
SUMMARY:Rosenkranz
DESCRIPTION:https://pg-pfaffenhofen.de/rosenkranz_id44674
DTSTART;TZID=Europe/Berlin:20260425T170000
DURATION:PT30M
LOCATION:Kirche St. Peter und Paul\, Kirchstraße 10\, 89291 Holzheim
END:VEVENT
BEGIN:VEVENT
UID:sabre-vobject-aead3ae4-64c4-4196-8359-f55984106c9b
DTSTAMP:20260423T111306Z
SUMMARY:Heilige Messe
DESCRIPTION:https://pg-pfaffenhofen.de/heilige-messe_id44678
DTSTART;TZID=Europe/Berlin:20260425T183000
DURATION:PT30M
LOCATION:Kirche St. Martin Pfaffenhofen\, Kirchpl. 3\, 89284 Pfaffenhofen
END:VEVENT
BEGIN:VEVENT
UID:sabre-vobject-9f5907b0-7046-4d5b-8257-459d335a6d9d
DTSTAMP:20260423T111306Z
SUMMARY:Kollekte für die Kirche
DESCRIPTION:https://pg-pfaffenhofen.de/kollekte-fuer-die-kirche_id44679
DTSTART;TZID=Europe/Berlin:20260426T000000
DURATION:PT30M
LOCATION:Kirche St. Martin Pfaffenhofen\, Kirchpl. 3\, 89284 Pfaffenhofen
END:VEVENT
BEGIN:VEVENT
UID:sabre-vobject-ea056304-fe11-4289-9c21-d70e711cc310
DTSTAMP:20260423T111306Z
SUMMARY:Kinderkirche im Pfarrheim
DESCRIPTION:https://pg-pfaffenhofen.de/kinderkirche-im-pfarrheim_id44675
DTSTART;TZID=Europe/Berlin:20260426T100000
DURATION:PT30M
LOCATION:Kirche St. Peter und Paul\, Kirchstraße 10\, 89291 Holzheim
END:VEVENT
BEGIN:VEVENT
UID:sabre-vobject-5eae6eef-5e58-4897-a396-760071c4f91e
DTSTAMP:20260423T111306Z
SUMMARY:Heilige Messe\, Feier der Erstkommunion
DESCRIPTION:https://pg-pfaffenhofen.de/heilige-messe-feier-der-erstkommunio
 n_id44677
DTSTART;TZID=Europe/Berlin:20260426T100000
DURATION:PT30M
LOCATION:Kirche St. Michael\, Dorfstraße 2\, 89284 Pfaffenhofen
END:VEVENT
BEGIN:VEVENT
UID:sabre-vobject-966de74e-b8a4-45f1-a8bd-6b1712e5ee4c
DTSTAMP:20260423T111306Z
SUMMARY:Heilige Messe\, Feier der Erstkommunion für die Kinder aus Beuren
DESCRIPTION:https://pg-pfaffenhofen.de/heilige-messe-feier-der-erstkommunio
 n-fuer-die-kinder-aus-beuren_id44680
DTSTART;TZID=Europe/Berlin:20260426T100000
DURATION:PT30M
LOCATION:Kirche St. Martin Pfaffenhofen\, Kirchpl. 3\, 89284 Pfaffenhofen
END:VEVENT
BEGIN:VEVENT
UID:sabre-vobject-fb960bc6-ddda-49ab-881c-3b9105af558a
DTSTAMP:20260423T111306Z
SUMMARY:Heilige Messe
DESCRIPTION:https://pg-pfaffenhofen.de/heilige-messe_id44676
DTSTART;TZID=Europe/Berlin:20260426T183000
DURATION:PT30M
LOCATION:Kirche St. Peter und Paul\, Kirchstraße 10\, 89291 Holzheim
END:VEVENT
BEGIN:VEVENT
UID:sabre-vobject-f2f2ec2e-74cb-436b-90bd-fed94c407ac3
DTSTAMP:20260423T111306Z
SUMMARY:Heilige Messe
DESCRIPTION:https://pg-pfaffenhofen.de/heilige-messe_id44683
DTSTART;TZID=Europe/Berlin:20260427T183000
DURATION:PT30M
LOCATION:Filialkirche St. Dominikus\, Attenhofener Weg 2\, 89284 Niederhaus
 en
END:VEVENT
BEGIN:VEVENT
UID:sabre-vobject-38dcf94c-1814-4e48-bf15-44e8747b551e
DTSTAMP:20260423T111306Z
SUMMARY:Rosenkranz
DESCRIPTION:https://pg-pfaffenhofen.de/rosenkranz_id44695
DTSTART;TZID=Europe/Berlin:20260428T180000
DURATION:PT30M
LOCATION:Kirche St. Martin Pfaffenhofen\, Kirchpl. 3\, 89284 Pfaffenhofen
END:VEVENT
BEGIN:VEVENT
UID:sabre-vobject-e871c5b3-2ee9-4ce5-8ae1-f54c4575bd4d
DTSTAMP:20260423T111306Z
SUMMARY:Heilige Messe\; Dankgottesdienst der Erstkommunionkinder für Raune
 rtshofen und Remmeltshofen/Kadeltshofen
DESCRIPTION:https://pg-pfaffenhofen.de/heilige-messe-dankgottesdienst-der-e
 rstkommunionkinder-fuer-raunertshofen-und-remmeltshofen-kadeltshofen_id446
 81
DTSTART;TZID=Europe/Berlin:20260428T183000
DURATION:PT30M
LOCATION:Filialkirche St. Antonius\, Günzburger Straße 3\, 89284 Raunerts
 hofen
END:VEVENT
BEGIN:VEVENT
UID:sabre-vobject-313ee112-b214-49b6-bf1f-9f7adfdcba6c
DTSTAMP:20260423T111306Z
SUMMARY:Heilige Messe
DESCRIPTION:https://pg-pfaffenhofen.de/heilige-messe_id44696
DTSTART;TZID=Europe/Berlin:20260428T183000
DURATION:PT30M
LOCATION:Kirche St. Martin Pfaffenhofen\, Kirchpl. 3\, 89284 Pfaffenhofen
END:VEVENT
BEGIN:VEVENT
UID:sabre-vobject-682a1c04-4880-4014-b8a3-718674089e3c
DTSTAMP:20260423T111306Z
SUMMARY:Rosenkranz
DESCRIPTION:https://pg-pfaffenhofen.de/rosenkranz_id44684
DTSTART;TZID=Europe/Berlin:20260429T180000
DURATION:PT30M
LOCATION:Filialkirche St. Leonhard\, Ulmer Str. 32\, 89284 Roth
END:VEVENT
BEGIN:VEVENT
UID:sabre-vobject-e1371b30-d621-42f9-96a0-a1b5d215b646
DTSTAMP:20260423T111306Z
SUMMARY:Heilige Messe
DESCRIPTION:https://pg-pfaffenhofen.de/heilige-messe_id44685
DTSTART;TZID=Europe/Berlin:20260429T183000
DURATION:PT30M
LOCATION:Filialkirche St. Leonhard\, Ulmer Str. 32\, 89284 Roth
END:VEVENT
BEGIN:VEVENT
UID:sabre-vobject-8225f38c-5181-4052-9d51-5853845b64f7
DTSTAMP:20260423T111306Z
SUMMARY:Heilige Messe
DESCRIPTION:https://pg-pfaffenhofen.de/heilige-messe_id44691
DTSTART;TZID=Europe/Berlin:20260429T183000
DURATION:PT30M
LOCATION:Kirche St. Michael\, Dorfstraße 2\, 89284 Pfaffenhofen
END:VEVENT
BEGIN:VEVENT
UID:sabre-vobject-203a297f-4cfc-46ae-8714-2590941ab12e
DTSTAMP:20260423T111306Z
SUMMARY:Heilige Messe
DESCRIPTION:https://pg-pfaffenhofen.de/heilige-messe_id44686
DTSTART;TZID=Europe/Berlin:20260430T183000
DURATION:PT30M
LOCATION:Kirche St. Cosmas und Damian\, Beurener Str. 47\, 89284 Pfaffenhof
 en
END:VEVENT
BEGIN:VEVENT
UID:sabre-vobject-68a07579-9519-413a-8195-6eb3efc87182
DTSTAMP:20260423T111306Z
SUMMARY:Festgottesdienst
DESCRIPTION:https://pg-pfaffenhofen.de/festgottesdienst_id44688
DTSTART;TZID=Europe/Berlin:20260501T100000
DURATION:PT30M
LOCATION:Kirche St. Peter und Paul\, Kirchstraße 10\, 89291 Holzheim
END:VEVENT
BEGIN:VEVENT
UID:sabre-vobject-3c0b129f-32cf-4324-a426-922808d0a4f7
DTSTAMP:20260423T111306Z
SUMMARY:Festgottesdienst
DESCRIPTION:https://pg-pfaffenhofen.de/festgottesdienst_id44697
DTSTART;TZID=Europe/Berlin:20260501T100000
DURATION:PT30M
LOCATION:Kirche St. Martin Pfaffenhofen\, Kirchpl. 3\, 89284 Pfaffenhofen
END:VEVENT
BEGIN:VEVENT
UID:sabre-vobject-7806bde4-7a8c-4c31-80bf-e49103d1611b
DTSTAMP:20260423T111306Z
SUMMARY:Maiandacht
DESCRIPTION:https://pg-pfaffenhofen.de/maiandacht_id44692
DTSTART;TZID=Europe/Berlin:20260501T183000
DURATION:PT30M
LOCATION:Kirche St. Michael\, Dorfstraße 2\, 89284 Pfaffenhofen
END:VEVENT
BEGIN:VEVENT
UID:sabre-vobject-51f5a934-ce17-4c91-8f1a-d0a22a47d10e
DTSTAMP:20260423T111306Z
SUMMARY:Rosenkranz
DESCRIPTION:https://pg-pfaffenhofen.de/rosenkranz_id44689
DTSTART;TZID=Europe/Berlin:20260502T170000
DURATION:PT30M
LOCATION:Kirche St. Peter und Paul\, Kirchstraße 10\, 89291 Holzheim
END:VEVENT
BEGIN:VEVENT
UID:sabre-vobject-39a4b968-d6b4-4349-af13-d8fb26be2e61
DTSTAMP:20260423T111306Z
SUMMARY:Heilige Messe
DESCRIPTION:https://pg-pfaffenhofen.de/heilige-messe_id44693
DTSTART;TZID=Europe/Berlin:20260502T183000
DURATION:PT30M
LOCATION:Kirche St. Michael\, Dorfstraße 2\, 89284 Pfaffenhofen
END:VEVENT
BEGIN:VEVENT
UID:sabre-vobject-da1c2484-c46d-4add-8454-79f3ef0e4d4c
DTSTAMP:20260423T111306Z
SUMMARY:Kollekte für die Kirche
DESCRIPTION:https://pg-pfaffenhofen.de/kollekte-fuer-die-kirche_id44700
DTSTART;TZID=Europe/Berlin:20260503T000000
DURATION:PT30M
LOCATION:Kirche St. Martin Pfaffenhofen\, Kirchpl. 3\, 89284 Pfaffenhofen
END:VEVENT
BEGIN:VEVENT
UID:sabre-vobject-11f26fd5-7193-4bfe-8182-0b25626d5437
DTSTAMP:20260423T111306Z
SUMMARY:Heilige Messe
DESCRIPTION:https://pg-pfaffenhofen.de/heilige-messe_id44687
DTSTART;TZID=Europe/Berlin:20260503T084500
DURATION:PT30M
LOCATION:Kirche St. Cosmas und Damian\, Beurener Str. 47\, 89284 Pfaffenhof
 en
END:VEVENT
BEGIN:VEVENT
UID:sabre-vobject-47a40d7a-4c09-4045-ab0d-8ab51122d961
DTSTAMP:20260423T111306Z
SUMMARY:Rosenkranz
DESCRIPTION:https://pg-pfaffenhofen.de/rosenkranz_id44698
DTSTART;TZID=Europe/Berlin:20260503T093000
DURATION:PT30M
LOCATION:Kirche St. Martin Pfaffenhofen\, Kirchpl. 3\, 89284 Pfaffenhofen
END:VEVENT
BEGIN:VEVENT
UID:sabre-vobject-da8f6bf8-c9b4-412c-bb43-068031252269
DTSTAMP:20260423T111306Z
SUMMARY:Heilige Messe
DESCRIPTION:https://pg-pfaffenhofen.de/heilige-messe_id44699
DTSTART;TZID=Europe/Berlin:20260503T100000
DURATION:PT30M
LOCATION:Kirche St. Martin Pfaffenhofen\, Kirchpl. 3\, 89284 Pfaffenhofen
END:VEVENT
BEGIN:VEVENT
UID:sabre-vobject-b717e139-af52-496a-9967-35b14caf1ea5
DTSTAMP:20260423T111306Z
SUMMARY:Taufe
DESCRIPTION:https://pg-pfaffenhofen.de/taufe_id44682
DTSTART;TZID=Europe/Berlin:20260503T111500
DURATION:PT30M
LOCATION:Filialkirche St. Ulrich\, Diepertshofener Str. 21\, 89284 Dieperts
 hofen
END:VEVENT
BEGIN:VEVENT
UID:sabre-vobject-0ef6ccec-ffe9-4cb0-96a0-a9de0e98ebc9
DTSTAMP:20260423T111306Z
SUMMARY:Maiandacht
DESCRIPTION:https://pg-pfaffenhofen.de/maiandacht_id44690
DTSTART;TZID=Europe/Berlin:20260503T183000
DURATION:PT30M
LOCATION:Kirche St. Peter und Paul\, Kirchstraße 10\, 89291 Holzheim
END:VEVENT
BEGIN:VEVENT
UID:sabre-vobject-37b63b60-6916-4f61-a200-63cc2ba4714f
DTSTAMP:20260423T111306Z
SUMMARY:Maiandacht an der Lourdeskapelle / bei Regen in St. Ulrich Dieperts
 hofen
DESCRIPTION:https://pg-pfaffenhofen.de/maiandacht-an-der-lourdeskapelle-bei
 -regen-in-st-ulrich-diepertshofen_id44694
DTSTART;TZID=Europe/Berlin:20260503T183000
DURATION:PT30M
LOCATION:Kirche St. Martin Pfaffenhofen\, Kirchpl. 3\, 89284 Pfaffenhofen
END:VEVENT
END:VCALENDAR
