BEGIN:VCALENDAR
VERSION:2.0
PRODID:-//Sabre//Sabre VObject 4.5.8//EN
CALSCALE:GREGORIAN
NAME:PG Pfaffenhofen
X-WR-CALNAME:PG Pfaffenhofen
BEGIN:VEVENT
UID:sabre-vobject-fa611dd4-b262-4dbe-8245-fc1817f51598
DTSTAMP:20260420T094522Z
SUMMARY:Heilige Messe
DESCRIPTION:https://pg-pfaffenhofen.de/heilige-messe_id43908
DTSTART;TZID=Europe/Berlin:20260420T183000
DURATION:PT30M
LOCATION:Filialkirche St. Dominikus\, Attenhofener Weg 2\, 89284 Niederhaus
 en
END:VEVENT
BEGIN:VEVENT
UID:sabre-vobject-8ee68e1f-4ca4-4af9-bc33-851188fb60ea
DTSTAMP:20260420T094522Z
SUMMARY:Rosenkranz
DESCRIPTION:https://pg-pfaffenhofen.de/rosenkranz_id43923
DTSTART;TZID=Europe/Berlin:20260421T180000
DURATION:PT30M
LOCATION:Filialkirche St. Ulrich\, Diepertshofener Str. 21\, 89284 Dieperts
 hofen
END:VEVENT
BEGIN:VEVENT
UID:sabre-vobject-70727824-32b0-41fd-911d-7863a255925b
DTSTAMP:20260420T094522Z
SUMMARY:Heilige Messe\; Dankgottesdienst der Erstkommunionkinder
DESCRIPTION:https://pg-pfaffenhofen.de/heilige-messe-dankgottesdienst-der-e
 rstkommunionkinder_id43907
DTSTART;TZID=Europe/Berlin:20260421T183000
DURATION:PT30M
LOCATION:Filialkirche St. Ulrich\, Diepertshofener Str. 21\, 89284 Dieperts
 hofen
END:VEVENT
BEGIN:VEVENT
UID:sabre-vobject-7bf5ea7c-484b-4a4c-ab84-7d2a3992da95
DTSTAMP:20260420T094522Z
SUMMARY:Heilige Messe
DESCRIPTION:https://pg-pfaffenhofen.de/heilige-messe_id43912
DTSTART;TZID=Europe/Berlin:20260421T183000
DURATION:PT30M
LOCATION:Kirche St. Michael\, Dorfstraße 2\, 89284 Pfaffenhofen
END:VEVENT
BEGIN:VEVENT
UID:sabre-vobject-3f6b9dcf-aa68-47b4-99ae-200b5e6a8c3c
DTSTAMP:20260420T094522Z
SUMMARY:Rosenkranz
DESCRIPTION:https://pg-pfaffenhofen.de/rosenkranz_id43909
DTSTART;TZID=Europe/Berlin:20260422T180000
DURATION:PT30M
LOCATION:Filialkirche St. Leonhard\, Ulmer Str. 32\, 89284 Roth
END:VEVENT
BEGIN:VEVENT
UID:sabre-vobject-ff698031-b68d-4df2-bcfc-7a3ea764d150
DTSTAMP:20260420T094522Z
SUMMARY:Heilige Messe
DESCRIPTION:https://pg-pfaffenhofen.de/heilige-messe_id43910
DTSTART;TZID=Europe/Berlin:20260422T183000
DURATION:PT30M
LOCATION:Filialkirche St. Leonhard\, Ulmer Str. 32\, 89284 Roth
END:VEVENT
BEGIN:VEVENT
UID:sabre-vobject-43e8f808-7865-4664-bdf4-548868fdec83
DTSTAMP:20260420T094522Z
SUMMARY:Heilige Messe
DESCRIPTION:https://pg-pfaffenhofen.de/heilige-messe_id43917
DTSTART;TZID=Europe/Berlin:20260422T183000
DURATION:PT30M
LOCATION:Kirche St. Michael\, Dorfstraße 2\, 89284 Pfaffenhofen
END:VEVENT
BEGIN:VEVENT
UID:sabre-vobject-5e42bf3e-00f5-4de5-b3d2-1976f98ec82a
DTSTAMP:20260420T094522Z
SUMMARY:Heilige Messe
DESCRIPTION:https://pg-pfaffenhofen.de/heilige-messe_id43911
DTSTART;TZID=Europe/Berlin:20260423T183000
DURATION:PT30M
LOCATION:Kirche St. Cosmas und Damian\, Beurener Str. 47\, 89284 Pfaffenhof
 en
END:VEVENT
BEGIN:VEVENT
UID:sabre-vobject-4d297323-8f86-4cb4-81b8-b3380ef38a2f
DTSTAMP:20260420T094522Z
SUMMARY:Heilige Messe
DESCRIPTION:https://pg-pfaffenhofen.de/heilige-messe_id43919
DTSTART;TZID=Europe/Berlin:20260424T090000
DURATION:PT30M
LOCATION:Kirche St. Martin Pfaffenhofen\, Kirchpl. 3\, 89284 Pfaffenhofen
END:VEVENT
BEGIN:VEVENT
UID:sabre-vobject-5cb314eb-a68d-4835-9757-553a9b64a5c2
DTSTAMP:20260420T094522Z
SUMMARY:Heilige Messe\; Dankgottesdienst der Erstkommunionkinder
DESCRIPTION:https://pg-pfaffenhofen.de/heilige-messe-dankgottesdienst-der-e
 rstkommunionkinder_id43913
DTSTART;TZID=Europe/Berlin:20260424T183000
DURATION:PT30M
LOCATION:Kirche St. Peter und Paul\, Kirchstraße 10\, 89291 Holzheim
END:VEVENT
BEGIN:VEVENT
UID:sabre-vobject-72c3b97d-6a1c-4dde-b3fb-a23157aec9fb
DTSTAMP:20260420T094522Z
SUMMARY:Rosenkranz
DESCRIPTION:https://pg-pfaffenhofen.de/rosenkranz_id43914
DTSTART;TZID=Europe/Berlin:20260425T170000
DURATION:PT30M
LOCATION:Kirche St. Peter und Paul\, Kirchstraße 10\, 89291 Holzheim
END:VEVENT
BEGIN:VEVENT
UID:sabre-vobject-3c5e42a7-2799-42c3-9758-c496f4b882eb
DTSTAMP:20260420T094522Z
SUMMARY:Heilige Messe
DESCRIPTION:https://pg-pfaffenhofen.de/heilige-messe_id43920
DTSTART;TZID=Europe/Berlin:20260425T183000
DURATION:PT30M
LOCATION:Kirche St. Martin Pfaffenhofen\, Kirchpl. 3\, 89284 Pfaffenhofen
END:VEVENT
BEGIN:VEVENT
UID:sabre-vobject-cab83ca8-0b11-4055-837d-8f8cf0bb3151
DTSTAMP:20260420T094522Z
SUMMARY:Kollekte für die Kirche
DESCRIPTION:https://pg-pfaffenhofen.de/kollekte-fuer-die-kirche_id43921
DTSTART;TZID=Europe/Berlin:20260426T000000
DURATION:PT30M
LOCATION:Kirche St. Martin Pfaffenhofen\, Kirchpl. 3\, 89284 Pfaffenhofen
END:VEVENT
BEGIN:VEVENT
UID:sabre-vobject-d8946f7a-4d8b-4665-9de3-9453ad3c77b5
DTSTAMP:20260420T094522Z
SUMMARY:Kinderkirche im Pfarrheim
DESCRIPTION:https://pg-pfaffenhofen.de/kinderkirche-im-pfarrheim_id43915
DTSTART;TZID=Europe/Berlin:20260426T100000
DURATION:PT30M
LOCATION:Kirche St. Peter und Paul\, Kirchstraße 10\, 89291 Holzheim
END:VEVENT
BEGIN:VEVENT
UID:sabre-vobject-eaacefc4-ab77-45d2-a870-8c12e91d4aaa
DTSTAMP:20260420T094522Z
SUMMARY:Heilige Messe\, Feier der Erstkommunion
DESCRIPTION:https://pg-pfaffenhofen.de/heilige-messe-feier-der-erstkommunio
 n_id43918
DTSTART;TZID=Europe/Berlin:20260426T100000
DURATION:PT30M
LOCATION:Kirche St. Michael\, Dorfstraße 2\, 89284 Pfaffenhofen
END:VEVENT
BEGIN:VEVENT
UID:sabre-vobject-198ed522-8d4b-4b2e-ba25-ecdad1c9308b
DTSTAMP:20260420T094522Z
SUMMARY:Heilige Messe\, Feier der Erstkommunion für die Kinder aus Beuren
DESCRIPTION:https://pg-pfaffenhofen.de/heilige-messe-feier-der-erstkommunio
 n-fuer-die-kinder-aus-beuren_id43922
DTSTART;TZID=Europe/Berlin:20260426T100000
DURATION:PT30M
LOCATION:Kirche St. Martin Pfaffenhofen\, Kirchpl. 3\, 89284 Pfaffenhofen
END:VEVENT
BEGIN:VEVENT
UID:sabre-vobject-b8559a63-f0d0-4a25-9f55-cc8da4cf5001
DTSTAMP:20260420T094522Z
SUMMARY:Heilige Messe
DESCRIPTION:https://pg-pfaffenhofen.de/heilige-messe_id43916
DTSTART;TZID=Europe/Berlin:20260426T183000
DURATION:PT30M
LOCATION:Kirche St. Peter und Paul\, Kirchstraße 10\, 89291 Holzheim
END:VEVENT
END:VCALENDAR
