BEGIN:VCALENDAR
VERSION:2.0
PRODID:-//Sabre//Sabre VObject 4.5.8//EN
CALSCALE:GREGORIAN
NAME:PG Pfaffenhofen
X-WR-CALNAME:PG Pfaffenhofen
BEGIN:VEVENT
UID:sabre-vobject-a659729b-749b-4a32-87cb-ac096c4f9b4e
DTSTAMP:20260422T120300Z
SUMMARY:Letzte Hilfe Kurs
DESCRIPTION:https://pg-pfaffenhofen.de/letzte-hilfe-kurs_id41663
DTSTART;TZID=Europe/Berlin:20260424T140000
DURATION:PT30M
END:VEVENT
BEGIN:VEVENT
UID:sabre-vobject-b1656642-804d-43c1-a860-1b3836ab554b
DTSTAMP:20260422T120300Z
SUMMARY:Seniorennachmittag Holzheim
DESCRIPTION:https://pg-pfaffenhofen.de/seniorennachmittag-holzheim_id44230
DTSTART;TZID=Europe/Berlin:20260513T140000
DURATION:PT30M
END:VEVENT
BEGIN:VEVENT
UID:sabre-vobject-faf6e288-e76c-4d19-abdc-1d13a07016b7
DTSTAMP:20260422T120300Z
SUMMARY:Seniorenausflug Pfaffenhofen
DESCRIPTION:https://pg-pfaffenhofen.de/seniorenausflug-pfaffenhofen_id37585
DTSTART;TZID=Europe/Berlin:20260520T114500
DURATION:PT30M
END:VEVENT
END:VCALENDAR
