BEGIN:VCALENDAR
VERSION:2.0
PRODID:-//Sabre//Sabre VObject 4.5.8//EN
CALSCALE:GREGORIAN
BEGIN:VEVENT
UID:sabre-vobject-353b8c4e-dd73-4463-88c8-fd460ba17e21
DTSTAMP:20260422T115213Z
SUMMARY:Maiandacht
DESCRIPTION:https://pg-pfaffenhofen.de/maiandacht_id44692
DTSTART;TZID=Europe/Berlin:20260501T183000
DURATION:PT30M
LOCATION:Kirche St. Michael\, Dorfstraße 2\, 89284 Pfaffenhofen
END:VEVENT
END:VCALENDAR
