BEGIN:VCALENDAR
VERSION:2.0
PRODID:-//Sabre//Sabre VObject 4.5.8//EN
CALSCALE:GREGORIAN
BEGIN:VEVENT
UID:sabre-vobject-1df5daaf-9872-495d-8d40-031133978f42
DTSTAMP:20260420T091633Z
SUMMARY:Filmabend
DESCRIPTION:https://pg-pfaffenhofen.de/filmabend_id37619
DTSTART;TZID=Europe/Berlin:20260313T191500
DURATION:PT30M
END:VEVENT
END:VCALENDAR
