BEGIN:VCALENDAR
VERSION:2.0
PRODID:-//Sabre//Sabre VObject 4.5.8//EN
CALSCALE:GREGORIAN
BEGIN:VEVENT
UID:sabre-vobject-d00a7930-7cd5-40b0-b242-0e5030c0bf72
DTSTAMP:20260420T091429Z
SUMMARY:Seniorennachmittag Pfaffenhofen mit Krankensalbung
DESCRIPTION:https://pg-pfaffenhofen.de/seniorennachmittag-pfaffenhofen-mit-
 krankensalbung_id37584
DTSTART;TZID=Europe/Berlin:20260318T140000
DURATION:PT30M
END:VEVENT
END:VCALENDAR
