BEGIN:VCALENDAR
VERSION:2.0
PRODID:-//Sabre//Sabre VObject 4.5.8//EN
CALSCALE:GREGORIAN
BEGIN:VEVENT
UID:sabre-vobject-beae09e0-f412-453a-81f8-e88f23cc2de1
DTSTAMP:20260420T104232Z
SUMMARY:Kinderkirche Pfaffenhofen
DESCRIPTION:https://pg-pfaffenhofen.de/kinderkirche-pfaffenhofen_id36789
DTSTART;TZID=Europe/Berlin:20260301T100000
DURATION:PT30M
END:VEVENT
END:VCALENDAR
