BEGIN:VCALENDAR
VERSION:2.0
PRODID:-//Sabre//Sabre VObject 4.5.8//EN
CALSCALE:GREGORIAN
BEGIN:VEVENT
UID:sabre-vobject-3e7ce7b0-406e-40a0-86b8-04088c93660d
DTSTAMP:20260420T123830Z
SUMMARY:Kinderfasching Pfaffenhofen
DESCRIPTION:https://pg-pfaffenhofen.de/kinderfasching-pfaffenhofen_id35217
DTSTART;TZID=Europe/Berlin:20260216T144400
DURATION:PT30M
END:VEVENT
END:VCALENDAR
