BEGIN:VCALENDAR
VERSION:2.0
PRODID:-//Sabre//Sabre VObject 4.5.8//EN
CALSCALE:GREGORIAN
BEGIN:VEVENT
UID:sabre-vobject-d4cee956-00fb-4aa9-8ed1-7ebdefd58d81
DTSTAMP:20260420T140410Z
SUMMARY:Seniorenfasching Pfaffenhofen
DESCRIPTION:https://pg-pfaffenhofen.de/seniorenfasching-pfaffenhofen_id3466
 6
DTSTART;TZID=Europe/Berlin:20260204T135900
DURATION:PT30M
END:VEVENT
END:VCALENDAR
