BEGIN:VCALENDAR
VERSION:2.0
PRODID:-//Sabre//Sabre VObject 4.5.8//EN
CALSCALE:GREGORIAN
BEGIN:VEVENT
UID:sabre-vobject-81b85edb-032a-4f61-8fc7-092802783e9d
DTSTAMP:20260420T153535Z
SUMMARY:Pfaffenhofen Seniorennachmittag
DESCRIPTION:https://pg-pfaffenhofen.de/pfaffenhofen-seniorennachmittag_id31
 953
DTSTART;TZID=Europe/Berlin:20260114T140000
DURATION:PT30M
END:VEVENT
END:VCALENDAR
