BEGIN:VCALENDAR
VERSION:2.0
PRODID:-//Sabre//Sabre VObject 4.5.8//EN
CALSCALE:GREGORIAN
BEGIN:VEVENT
UID:sabre-vobject-7fd0ceae-2240-494d-b6f8-784ad85faa84
DTSTAMP:20260420T201608Z
SUMMARY:Senioren
DESCRIPTION:https://pg-pfaffenhofen.de/senioren_id30293
DTSTART;TZID=Europe/Berlin:20251203T140000
DURATION:PT30M
END:VEVENT
END:VCALENDAR
