BEGIN:VCALENDAR
VERSION:2.0
PRODID:-//Sabre//Sabre VObject 4.5.8//EN
CALSCALE:GREGORIAN
BEGIN:VEVENT
UID:sabre-vobject-897b9cd8-88b9-48af-bf8e-ba72e4d897f2
DTSTAMP:20260420T220028Z
SUMMARY:Nachhaltiger Adventsmarkt
DESCRIPTION:https://pg-pfaffenhofen.de/nachhaltiger-adventsmarkt_id30056
DTSTART;TZID=Europe/Berlin:20251130T183000
DURATION:PT30M
END:VEVENT
END:VCALENDAR
