BEGIN:VCALENDAR
VERSION:2.0
PRODID:-//Sabre//Sabre VObject 4.5.8//EN
CALSCALE:GREGORIAN
BEGIN:VEVENT
UID:sabre-vobject-1ddbb181-940c-494e-b5cc-720f1254fd72
DTSTAMP:20260421T010045Z
SUMMARY:Taize
DESCRIPTION:https://pg-pfaffenhofen.de/taize_id30055
DTSTART;TZID=Europe/Berlin:20251128T180000
DURATION:PT30M
END:VEVENT
END:VCALENDAR
