BEGIN:VCALENDAR
VERSION:2.0
PRODID:-//Sabre//Sabre VObject 4.5.8//EN
CALSCALE:GREGORIAN
BEGIN:VEVENT
UID:sabre-vobject-53079821-aa1c-44e1-980c-8a870b3c68a2
DTSTAMP:20260420T232118Z
SUMMARY:Kinderkirche Pfaffenhofen
DESCRIPTION:https://pg-pfaffenhofen.de/kinderkirche-pfaffenhofen_id29868
DTSTART;TZID=Europe/Berlin:20251130T100000
DURATION:PT30M
END:VEVENT
END:VCALENDAR
