BEGIN:VCALENDAR
VERSION:2.0
PRODID:-//Sabre//Sabre VObject 4.5.8//EN
CALSCALE:GREGORIAN
BEGIN:VEVENT
UID:sabre-vobject-035f2711-2589-4303-bc55-9276b2e67962
DTSTAMP:20260421T025157Z
SUMMARY:Kinderbibeltag
DESCRIPTION:https://pg-pfaffenhofen.de/kinderbibeltag_id28920
DTSTART;TZID=Europe/Berlin:20251119T083000
DURATION:PT30M
END:VEVENT
END:VCALENDAR
