BEGIN:VCALENDAR
VERSION:2.0
PRODID:-//Sabre//Sabre VObject 4.5.8//EN
CALSCALE:GREGORIAN
BEGIN:VEVENT
UID:sabre-vobject-00d931c8-ce6a-496c-86f7-4076a49666af
DTSTAMP:20260420T170835Z
SUMMARY:Beten für den Frieden (Termine auf dem Plakat)
DESCRIPTION:https://pg-pfaffenhofen.de/beten-fuer-den-frieden-termine-auf-d
 em-plakat_id28424
DTSTART;TZID=Europe/Berlin:20251227T183000
DURATION:PT30M
END:VEVENT
END:VCALENDAR
