BEGIN:VCALENDAR
VERSION:2.0
PRODID:-//Sabre//Sabre VObject 4.5.8//EN
CALSCALE:GREGORIAN
BEGIN:VEVENT
UID:sabre-vobject-6d7acdcd-ba5b-4de3-8058-32fd4473321d
DTSTAMP:20260421T041646Z
SUMMARY:Senioren Pfaffenhofen
DESCRIPTION:https://pg-pfaffenhofen.de/senioren-pfaffenhofen_id27837
DTSTART;TZID=Europe/Berlin:20251105T140000
DURATION:PT30M
END:VEVENT
END:VCALENDAR
