BEGIN:VCALENDAR
VERSION:2.0
PRODID:-//Sabre//Sabre VObject 4.5.8//EN
CALSCALE:GREGORIAN
BEGIN:VEVENT
UID:sabre-vobject-14bdb347-522d-4e2d-bc9c-77ce7f3114b3
DTSTAMP:20260419T053731Z
SUMMARY:Sternsingeraktion Pfaffenhofen HelferInnen gesucht!
DESCRIPTION:https://pg-pfaffenhofen.de/sternsingeraktion-pfaffenhofen-helfe
 rinnen-gesucht_id27222
DTSTART;TZID=Europe/Berlin:20251018T170200
DURATION:PT30M
END:VEVENT
END:VCALENDAR
