BEGIN:VCALENDAR
VERSION:2.0
PRODID:-//Sabre//Sabre VObject 4.5.8//EN
CALSCALE:GREGORIAN
BEGIN:VEVENT
UID:sabre-vobject-547c1773-ebb5-485f-aeb3-71b83a8caf5e
DTSTAMP:20260419T053744Z
SUMMARY:Familiengottesdienst Beuren
DESCRIPTION:https://pg-pfaffenhofen.de/familiengottesdienst-beuren_id27072
DTSTART;TZID=Europe/Berlin:20251005T084500
DURATION:PT30M
END:VEVENT
END:VCALENDAR
