BEGIN:VCALENDAR
VERSION:2.0
PRODID:-//Sabre//Sabre VObject 4.5.8//EN
CALSCALE:GREGORIAN
BEGIN:VEVENT
UID:sabre-vobject-71668332-2cfa-44f6-9769-5c19b620c9c1
DTSTAMP:20260419T053809Z
SUMMARY:Bergmesse
DESCRIPTION:https://pg-pfaffenhofen.de/bergmesse_id26280
DTSTART;TZID=Europe/Berlin:20250914T110000
DURATION:PT30M
END:VEVENT
END:VCALENDAR
