BEGIN:VCALENDAR
VERSION:2.0
PRODID:-//Sabre//Sabre VObject 4.5.8//EN
CALSCALE:GREGORIAN
BEGIN:VEVENT
UID:sabre-vobject-64979995-e4ad-43d6-95e6-650ef711bcc9
DTSTAMP:20260419T053821Z
SUMMARY:Weinfest zum Patrozinium Kadeltshofen/Remmeltshofen
DESCRIPTION:https://pg-pfaffenhofen.de/weinfest-zum-patrozinium-kadeltshofe
 n-remmeltshofen_id26279
DTSTART;TZID=Europe/Berlin:20250927T181500
DURATION:PT30M
END:VEVENT
END:VCALENDAR
