BEGIN:VCALENDAR
VERSION:2.0
PRODID:-//Sabre//Sabre VObject 4.5.8//EN
CALSCALE:GREGORIAN
BEGIN:VEVENT
UID:sabre-vobject-ea116f60-aa3c-447f-8874-458c4a83daa3
DTSTAMP:20260419T053756Z
SUMMARY:Aktion Minibrot
DESCRIPTION:https://pg-pfaffenhofen.de/aktion-minibrot_id26268
DTSTART;TZID=Europe/Berlin:20251005T121400
DURATION:PT30M
END:VEVENT
END:VCALENDAR
