BEGIN:VCALENDAR
VERSION:2.0
PRODID:-//Sabre//Sabre VObject 4.5.8//EN
CALSCALE:GREGORIAN
BEGIN:VEVENT
UID:sabre-vobject-b20a640f-2bde-4615-8550-fcb230bb243a
DTSTAMP:20260419T053948Z
SUMMARY:Ökumenisches Friedensgebet
DESCRIPTION:https://pg-pfaffenhofen.de/oekumenisches-friedensgebet_id21926
DTSTART;TZID=Europe/Berlin:20250924T183000
DURATION:PT30M
END:VEVENT
END:VCALENDAR
