BEGIN:VCALENDAR
VERSION:2.0
PRODID:-//Sabre//Sabre VObject 4.5.8//EN
CALSCALE:GREGORIAN
BEGIN:VEVENT
UID:sabre-vobject-3382ede5-8a60-43fd-b493-b7b01c8dbd3d
DTSTAMP:20260419T053936Z
SUMMARY:Taizè am 06. Juni\, 19 Uhr
DESCRIPTION:https://pg-pfaffenhofen.de/taize-am-06-juni-19-uhr_id21925
DTSTART;TZID=Europe/Berlin:20250606T190000
DURATION:PT30M
END:VEVENT
END:VCALENDAR
