BEGIN:VCALENDAR
VERSION:2.0
PRODID:-//Sabre//Sabre VObject 4.5.8//EN
CALSCALE:GREGORIAN
BEGIN:VEVENT
UID:sabre-vobject-e17c06e4-5a44-4ba4-95c5-5ac3b7c22d56
DTSTAMP:20260419T053437Z
SUMMARY:Pray with Spirit
DESCRIPTION:https://pg-pfaffenhofen.de/pray-with-spirit_id21253
DTSTART;TZID=Europe/Berlin:20250508T122900
DURATION:PT30M
END:VEVENT
END:VCALENDAR
