BEGIN:VCALENDAR
VERSION:2.0
PRODID:-//Sabre//Sabre VObject 4.5.8//EN
CALSCALE:GREGORIAN
BEGIN:VEVENT
UID:sabre-vobject-fcde7437-b041-4b95-a414-81b4bb721a17
DTSTAMP:20260419T053233Z
SUMMARY:Fastenessen Pfaffenhofen
DESCRIPTION:https://pg-pfaffenhofen.de/fastenessen-pfaffenhofen_id18229
DTSTART;TZID=Europe/Berlin:20250406T110000
DURATION:PT30M
END:VEVENT
END:VCALENDAR
