BEGIN:VCALENDAR
VERSION:2.0
PRODID:-//Sabre//Sabre VObject 4.5.8//EN
CALSCALE:GREGORIAN
BEGIN:VEVENT
UID:sabre-vobject-7554c857-dddd-455d-b5aa-0ca596fcb18e
DTSTAMP:20260419T053220Z
SUMMARY:Seniorennachmitag Pfaffenhofen
DESCRIPTION:https://pg-pfaffenhofen.de/seniorennachmitag-pfaffenhofen_id182
 28
DTSTART;TZID=Europe/Berlin:20250423T140000
DURATION:PT30M
END:VEVENT
END:VCALENDAR
