BEGIN:VCALENDAR
VERSION:2.0
PRODID:-//Sabre//Sabre VObject 4.5.8//EN
CALSCALE:GREGORIAN
BEGIN:VEVENT
UID:sabre-vobject-a4190f4a-5559-4dd8-950d-d50759791312
DTSTAMP:20260419T053834Z
SUMMARY:Orgelkonzert
DESCRIPTION:https://pg-pfaffenhofen.de/orgelkonzert_id17845
DTSTART;TZID=Europe/Berlin:20250330T160000
DURATION:PT30M
END:VEVENT
END:VCALENDAR
