BEGIN:VCALENDAR
VERSION:2.0
PRODID:-//Sabre//Sabre VObject 4.5.8//EN
CALSCALE:GREGORIAN
BEGIN:VEVENT
UID:sabre-vobject-7f699deb-66e7-4a3b-89fc-0cbcbd267a80
DTSTAMP:20260419T053846Z
SUMMARY:Kinderkirche Pfaffenhofen Martinushaus
DESCRIPTION:https://pg-pfaffenhofen.de/kinderkirche-pfaffenhofen-martinusha
 us_id17844
DTSTART;TZID=Europe/Berlin:20250413T100000
DURATION:PT30M
END:VEVENT
END:VCALENDAR
