BEGIN:VCALENDAR
VERSION:2.0
PRODID:-//Sabre//Sabre VObject 4.5.8//EN
CALSCALE:GREGORIAN
BEGIN:VEVENT
UID:sabre-vobject-b6a7e258-b018-41d5-b8f7-acd58d90ed48
DTSTAMP:20260419T233245Z
SUMMARY:Abend der Versöhnung
DESCRIPTION:https://pg-pfaffenhofen.de/abend-der-versoehnung_id17811
DTSTART;TZID=Europe/Berlin:20250328T183000
DURATION:PT30M
END:VEVENT
END:VCALENDAR
