BEGIN:VCALENDAR
VERSION:2.0
PRODID:-//Sabre//Sabre VObject 4.5.8//EN
CALSCALE:GREGORIAN
BEGIN:VEVENT
UID:sabre-vobject-90e9ac44-a63d-41f7-9c6d-6064ae47c928
DTSTAMP:20260419T054748Z
SUMMARY:Nachtwallfahrt für Männer am Gründonnerstag
DESCRIPTION:https://pg-pfaffenhofen.de/nachtwallfahrt-fuer-maenner-am-gruen
 donnerstag_id17810
DTSTART;TZID=Europe/Berlin:20250417T204500
DURATION:PT30M
END:VEVENT
END:VCALENDAR
