BEGIN:VCALENDAR
VERSION:2.0
PRODID:-//Sabre//Sabre VObject 4.5.8//EN
CALSCALE:GREGORIAN
BEGIN:VEVENT
UID:sabre-vobject-e86739c9-65c8-449e-8099-a7a3e33bb6c3
DTSTAMP:20260420T011459Z
SUMMARY:test
DESCRIPTION:https://pg-pfaffenhofen.de/test_id12497
DTSTART;TZID=Europe/Berlin:20241001T055000
DURATION:PT30M
END:VEVENT
END:VCALENDAR
